BEGIN:VCALENDAR
VERSION:2.0
PRODID:-//Explorer RV Club - ECPv5.14.2.1//NONSGML v1.0//EN
CALSCALE:GREGORIAN
METHOD:PUBLISH
X-WR-CALNAME:Explorer RV Club
X-ORIGINAL-URL:https://explorerrvclub.com
X-WR-CALDESC:Events for Explorer RV Club
REFRESH-INTERVAL;VALUE=DURATION:PT1H
X-Robots-Tag:noindex
X-PUBLISHED-TTL:PT1H
BEGIN:VTIMEZONE
TZID:America/Toronto
BEGIN:DAYLIGHT
TZOFFSETFROM:-0500
TZOFFSETTO:-0400
TZNAME:EDT
DTSTART:20210314T070000
END:DAYLIGHT
BEGIN:STANDARD
TZOFFSETFROM:-0400
TZOFFSETTO:-0500
TZNAME:EST
DTSTART:20211107T060000
END:STANDARD
END:VTIMEZONE
BEGIN:VEVENT
DTSTART;TZID=America/Toronto:20210228T100000
DTEND;TZID=America/Toronto:20210228T170000
DTSTAMP:20260421T104702
CREATED:20201217T180927Z
LAST-MODIFIED:20201217T181324Z
UID:81948-1614506400-1614531600@explorerrvclub.com
SUMMARY:2021 Virtual Big RV Show
DESCRIPTION:Here’s What You Can Expect\n• The same great RV Show consumer experience that you expect from The Big RV Show (but virtually)!\n• Best deals of the year from the largest RV retailers in Ontario\n• Online shopping at the Great Canadian Parts and Accessories Superstore!\n• Contests and giveaways! More Seminars! New RV Lifestyle Speakers!\n• Live entertainment!﻿
URL:https://explorerrvclub.com/event/2021-virtual-big-rv-show-2021-02-28/
LOCATION:British Columbia
ATTACH;FMTTYPE=image/png:https://explorerrvclub.com/wp-content/uploads/2020/12/nb-logo-cropped.png
ORGANIZER;CN="Canadian%20Recreational%20Vehicle%20Association%20%28CRVA%29":MAILTO:shane.devenish@crva.ca
END:VEVENT
END:VCALENDAR