BEGIN:VCALENDAR
VERSION:2.0
PRODID:-//Explorer RV Club - ECPv5.14.2.1//NONSGML v1.0//EN
CALSCALE:GREGORIAN
METHOD:PUBLISH
X-WR-CALNAME:Explorer RV Club
X-ORIGINAL-URL:https://explorerrvclub.com
X-WR-CALDESC:Events for Explorer RV Club
REFRESH-INTERVAL;VALUE=DURATION:PT1H
X-Robots-Tag:noindex
X-PUBLISHED-TTL:PT1H
BEGIN:VTIMEZONE
TZID:America/Toronto
BEGIN:DAYLIGHT
TZOFFSETFROM:-0500
TZOFFSETTO:-0400
TZNAME:EDT
DTSTART:20210314T070000
END:DAYLIGHT
BEGIN:STANDARD
TZOFFSETFROM:-0400
TZOFFSETTO:-0500
TZNAME:EST
DTSTART:20211107T060000
END:STANDARD
END:VTIMEZONE
BEGIN:VEVENT
DTSTART;TZID=America/Toronto:20210311T100000
DTEND;TZID=America/Toronto:20210311T200000
DTSTAMP:20260425T101716
CREATED:20210105T215418Z
LAST-MODIFIED:20210105T215418Z
UID:82462-1615456800-1615492800@explorerrvclub.com
SUMMARY:Moncton RV Show & Sale
DESCRIPTION:Don’t miss the largest RV show & sale in New Brunswick! Hundreds of makes and models under one roof at the Moncton Coliseum Complex.
URL:https://explorerrvclub.com/event/moncton-rv-show-sale/2021-03-11/
LOCATION:Moncton Coliseum Complex\, 377 Killam Drive\, Unit 100\, Moncton\, NB\, E1C 3T1\, Canada
ORGANIZER;CN="Master%20Promotions%20Ltd.":MAILTO:ssprague@mpltd.ca
GEO:46.0955202;-64.8292173
X-APPLE-STRUCTURED-LOCATION;VALUE=URI;X-ADDRESS=Moncton Coliseum Complex 377 Killam Drive Unit 100 Moncton NB E1C 3T1 Canada;X-APPLE-RADIUS=500;X-TITLE=377 Killam Drive\, Unit 100:geo:-64.8292173,46.0955202
END:VEVENT
END:VCALENDAR