BEGIN:VCALENDAR
VERSION:2.0
PRODID:-//Explorer RV Club - ECPv5.14.2.1//NONSGML v1.0//EN
CALSCALE:GREGORIAN
METHOD:PUBLISH
X-WR-CALNAME:Explorer RV Club
X-ORIGINAL-URL:https://explorerrvclub.com
X-WR-CALDESC:Events for Explorer RV Club
REFRESH-INTERVAL;VALUE=DURATION:PT1H
X-Robots-Tag:noindex
X-PUBLISHED-TTL:PT1H
BEGIN:VTIMEZONE
TZID:America/Toronto
BEGIN:DAYLIGHT
TZOFFSETFROM:-0500
TZOFFSETTO:-0400
TZNAME:EDT
DTSTART:20220313T070000
END:DAYLIGHT
BEGIN:STANDARD
TZOFFSETFROM:-0400
TZOFFSETTO:-0500
TZNAME:EST
DTSTART:20221106T060000
END:STANDARD
END:VTIMEZONE
BEGIN:VEVENT
DTSTART;TZID=America/Toronto:20220202T150000
DTEND;TZID=America/Toronto:20220205T170000
DTSTAMP:20260423T033741
CREATED:20211213T142908Z
LAST-MODIFIED:20211213T142908Z
UID:92635-1643814000-1644080400@explorerrvclub.com
SUMMARY:Manitoba RV Show and Sale
DESCRIPTION:The Manitoba RV Show fills the entire third floor of the RBC Convention Centre. All exhibitors will be in one location and on one floor.
URL:https://explorerrvclub.com/event/manitoba-rv-show-and-sale/
LOCATION:RBC Convention Centre Winnipeg\, 375 York Avenue\, Winnipeg\, MB\, R3C 3J3\, Canada
ORGANIZER;CN="Recreation%20Vehicle%20Dealers%20Association%20%28RVDA%29%20Manitoba":MAILTO:info@mbrvda.ca
GEO:49.888932;-97.144665
X-APPLE-STRUCTURED-LOCATION;VALUE=URI;X-ADDRESS=RBC Convention Centre Winnipeg 375 York Avenue Winnipeg MB R3C 3J3 Canada;X-APPLE-RADIUS=500;X-TITLE=375 York Avenue:geo:-97.144665,49.888932
END:VEVENT
END:VCALENDAR