BEGIN:VCALENDAR
VERSION:2.0
PRODID:-//Explorer RV Club - ECPv5.14.2.1//NONSGML v1.0//EN
CALSCALE:GREGORIAN
METHOD:PUBLISH
X-WR-CALNAME:Explorer RV Club
X-ORIGINAL-URL:https://explorerrvclub.com
X-WR-CALDESC:Events for Explorer RV Club
REFRESH-INTERVAL;VALUE=DURATION:PT1H
X-Robots-Tag:noindex
X-PUBLISHED-TTL:PT1H
BEGIN:VTIMEZONE
TZID:America/Toronto
BEGIN:DAYLIGHT
TZOFFSETFROM:-0500
TZOFFSETTO:-0400
TZNAME:EDT
DTSTART:20220313T070000
END:DAYLIGHT
BEGIN:STANDARD
TZOFFSETFROM:-0400
TZOFFSETTO:-0500
TZNAME:EST
DTSTART:20221106T060000
END:STANDARD
END:VTIMEZONE
BEGIN:VEVENT
DTSTART;TZID=America/Toronto:20220303T100000
DTEND;TZID=America/Toronto:20220306T170000
DTSTAMP:20260423T113515
CREATED:20211213T143505Z
LAST-MODIFIED:20211213T143505Z
UID:92642-1646301600-1646586000@explorerrvclub.com
SUMMARY:Toronto Spring Camping and RV Show - The Big One!
DESCRIPTION:The Canadian RV Manufacturers Association (CRVA) has joined with the largest RV dealers in Ontario to offer the best deals with over 500 RVs online for sale for every budget! Mark your calendars for this event! Learn about the RV & Camping Lifestyle and talk directly to Manufacturer Representatives about the right Recreation Vehicle for your family. Shop for your Camping and RV Accessories!
URL:https://explorerrvclub.com/event/toronto-spring-camping-and-rv-show-the-big-one/
LOCATION:The International Centre\, 6900 Airport Rd\, Mississauga\, ON\, L4V 1E8\, Canada
ORGANIZER;CN="Canadian%20Recreational%20Vehicle%20Association%20%28CRVA%29":MAILTO:shane.devenish@crva.ca
GEO:43.7031062;-79.6366377
X-APPLE-STRUCTURED-LOCATION;VALUE=URI;X-ADDRESS=The International Centre 6900 Airport Rd Mississauga ON L4V 1E8 Canada;X-APPLE-RADIUS=500;X-TITLE=6900 Airport Rd:geo:-79.6366377,43.7031062
END:VEVENT
BEGIN:VEVENT
DTSTART;TZID=America/Toronto:20220303T110000
DTEND;TZID=America/Toronto:20220306T170000
DTSTAMP:20260423T113515
CREATED:20211213T144723Z
LAST-MODIFIED:20211213T144723Z
UID:92646-1646305200-1646586000@explorerrvclub.com
SUMMARY:Montreal RV Show
DESCRIPTION:It’s the kick-off to the new season in the RV industry. It’s the best place to discover the new 2022 models and trends associated with the wonderful RV world.
URL:https://explorerrvclub.com/event/montreal-rv-show/
LOCATION:Montreal Convention Centre\, 1001 Place Jean-Paul-Riopelle\, Montreal\, Quebec\, H2Z 1H5\, Canada
ORGANIZER;CN="Recreation%20Vehicle%20Dealers%20Association%20of%20Quebec%20%28ACVRQ%29":MAILTO:jdupuis@acvrq.com
GEO:45.5037432;-73.5610536
X-APPLE-STRUCTURED-LOCATION;VALUE=URI;X-ADDRESS=Montreal Convention Centre 1001 Place Jean-Paul-Riopelle Montreal Quebec H2Z 1H5 Canada;X-APPLE-RADIUS=500;X-TITLE=1001 Place Jean-Paul-Riopelle:geo:-73.5610536,45.5037432
END:VEVENT
END:VCALENDAR