BEGIN:VCALENDAR
VERSION:2.0
PRODID:-//Explorer RV Club - ECPv5.14.2.1//NONSGML v1.0//EN
CALSCALE:GREGORIAN
METHOD:PUBLISH
X-WR-CALNAME:Explorer RV Club
X-ORIGINAL-URL:https://explorerrvclub.com
X-WR-CALDESC:Events for Explorer RV Club
REFRESH-INTERVAL;VALUE=DURATION:PT1H
X-Robots-Tag:noindex
X-PUBLISHED-TTL:PT1H
BEGIN:VTIMEZONE
TZID:America/Toronto
BEGIN:DAYLIGHT
TZOFFSETFROM:-0500
TZOFFSETTO:-0400
TZNAME:EDT
DTSTART:20220313T070000
END:DAYLIGHT
BEGIN:STANDARD
TZOFFSETFROM:-0400
TZOFFSETTO:-0500
TZNAME:EST
DTSTART:20221106T060000
END:STANDARD
TZID:America/Edmonton
BEGIN:DAYLIGHT
TZOFFSETFROM:-0700
TZOFFSETTO:-0600
TZNAME:MDT
DTSTART:20220313T090000
END:DAYLIGHT
BEGIN:STANDARD
TZOFFSETFROM:-0600
TZOFFSETTO:-0700
TZNAME:MST
DTSTART:20221106T080000
END:STANDARD
END:VTIMEZONE
BEGIN:VEVENT
DTSTART;TZID=America/Toronto:20220202T150000
DTEND;TZID=America/Toronto:20220205T170000
DTSTAMP:20260423T213923
CREATED:20211213T142908Z
LAST-MODIFIED:20211213T142908Z
UID:92635-1643814000-1644080400@explorerrvclub.com
SUMMARY:Manitoba RV Show and Sale
DESCRIPTION:The Manitoba RV Show fills the entire third floor of the RBC Convention Centre. All exhibitors will be in one location and on one floor.
URL:https://explorerrvclub.com/event/manitoba-rv-show-and-sale/
LOCATION:RBC Convention Centre Winnipeg\, 375 York Avenue\, Winnipeg\, MB\, R3C 3J3\, Canada
ORGANIZER;CN="Recreation%20Vehicle%20Dealers%20Association%20%28RVDA%29%20Manitoba":MAILTO:info@mbrvda.ca
GEO:49.888932;-97.144665
X-APPLE-STRUCTURED-LOCATION;VALUE=URI;X-ADDRESS=RBC Convention Centre Winnipeg 375 York Avenue Winnipeg MB R3C 3J3 Canada;X-APPLE-RADIUS=500;X-TITLE=375 York Avenue:geo:-97.144665,49.888932
END:VEVENT
BEGIN:VEVENT
DTSTART;TZID=America/Toronto:20220210T190000
DTEND;TZID=America/Toronto:20220210T200000
DTSTAMP:20260423T213923
CREATED:20220126T155552Z
LAST-MODIFIED:20220126T155552Z
UID:93438-1644519600-1644523200@explorerrvclub.com
SUMMARY:Fireside Chats: Spring RV Prep & Preventative Maintenance
DESCRIPTION:Grab a warm drink\, get cozy and join Wayfarer Insurance Group and the ORVDA for part one of their virtual Fireside Chats series. \nDo you want to protect your investment and reduce the cost of owning your RV? Then don’t miss out on this free\, interactive session where RV expert\, Jamie Russell\, will walk you through a maintenance checklist to prevent expensive breakdowns and extend the lifespan of your RV. Plus\, he’ll show you how to properly prepare your RV for the upcoming camping season and answer all your burning questions along the way! \nPlus\, when you register for this event you’ll be entered for a chance to win a $1\,000 Campkin’s gift card! \nDon’t forget to register for part two and three of their Fireside Chats series!
URL:https://explorerrvclub.com/event/fireside-chats-spring-rv-prep-preventative-maintenance/
LOCATION:British Columbia
ORGANIZER;CN="Wayfarer%20Insurance%20Group":MAILTO:hello@wayfarerinsurancegroup.com
END:VEVENT
BEGIN:VEVENT
DTSTART;TZID=America/Toronto:20220217T100000
DTEND;TZID=America/Toronto:20220222T170000
DTSTAMP:20260423T213923
CREATED:20211213T134154Z
LAST-MODIFIED:20211213T134154Z
UID:92615-1645092000-1645549200@explorerrvclub.com
SUMMARY:Earlybird RV Show and Sale
DESCRIPTION:The Earlybird RV Show and Sale is BC’s premier spring recreation vehicle show. If you enjoy the RV lifestyle\, or think you might like to try it\, then this is the show for you.
URL:https://explorerrvclub.com/event/earlybird-rv-show-and-sale/
LOCATION:Tradex Trade & Exhibition Centre\, 1190 Cornell Street\, Abbotsford\, BC\, V2T 6H5\, Canada
ORGANIZER;CN="MTD%20Promotions":MAILTO:contactus@rvshowsbc.com
GEO:49.0240436;-122.3813333
X-APPLE-STRUCTURED-LOCATION;VALUE=URI;X-ADDRESS=Tradex Trade & Exhibition Centre 1190 Cornell Street Abbotsford BC V2T 6H5 Canada;X-APPLE-RADIUS=500;X-TITLE=1190 Cornell Street:geo:-122.3813333,49.0240436
END:VEVENT
BEGIN:VEVENT
DTSTART;TZID=America/Edmonton:20220217T190000
DTEND;TZID=America/Edmonton:20220217T200000
DTSTAMP:20260423T213923
CREATED:20220204T122356Z
LAST-MODIFIED:20220204T122721Z
UID:93653-1645124400-1645128000@explorerrvclub.com
SUMMARY:Campfire Concert
DESCRIPTION:To kick off the Family Day long weekend\, Wayfarer Insurance Group and the RVDA of Alberta have teamed up to host a virtual Campfire Concert. \nGrab a warm drink\, get cozy and join us for special musical performance by award-winning Canadian singer-songwriter\, Danny Michel! Whether you’ve been to one of Danny Michel’s School Night Mondays shows\, with guests like Jim Cuddy and Tom Cochrane\, or you’ve seen his YouTube series “Dan’s Space Van” where he travels the world in a Star Trek themed van meeting inspiring people\, or you’re just discovering him\, you don’t want to skip this special musical performance. \nPlus\, simply by attending\, you’ll save 10% off your registration for the RVDA of Alberta’s RV Learning Weekend and have a chance to win thousands of dollars in prizes!
URL:https://explorerrvclub.com/event/campfire-concert/
LOCATION:British Columbia
ORGANIZER;CN="Wayfarer%20Insurance%20Group":MAILTO:hello@wayfarerinsurancegroup.com
END:VEVENT
END:VCALENDAR