BEGIN:VCALENDAR
VERSION:2.0
PRODID:-//Explorer RV Club - ECPv5.14.2.1//NONSGML v1.0//EN
CALSCALE:GREGORIAN
METHOD:PUBLISH
X-WR-CALNAME:Explorer RV Club
X-ORIGINAL-URL:https://explorerrvclub.com
X-WR-CALDESC:Events for Explorer RV Club
REFRESH-INTERVAL;VALUE=DURATION:PT1H
X-Robots-Tag:noindex
X-PUBLISHED-TTL:PT1H
BEGIN:VTIMEZONE
TZID:America/Toronto
BEGIN:DAYLIGHT
TZOFFSETFROM:-0500
TZOFFSETTO:-0400
TZNAME:EDT
DTSTART:20220313T070000
END:DAYLIGHT
BEGIN:STANDARD
TZOFFSETFROM:-0400
TZOFFSETTO:-0500
TZNAME:EST
DTSTART:20221106T060000
END:STANDARD
END:VTIMEZONE
BEGIN:VEVENT
DTSTART;TZID=America/Toronto:20220429T090000
DTEND;TZID=America/Toronto:20220501T170000
DTSTAMP:20260424T040712
CREATED:20220311T163010Z
LAST-MODIFIED:20220420T143635Z
UID:94436-1651222800-1651424400@explorerrvclub.com
SUMMARY:Campkin's RV Centre 49th Annual RV Open House
DESCRIPTION:Campkin’s 49th Grand Annual RV Open House and Sale – BBQ\, Door Prizes\, Games\, RV Part Specials and Kids Fun Zone.
URL:https://explorerrvclub.com/event/campkins-49th-annual-rv-open-house/2022-04-29/
LOCATION:Campkin’s RV Centre\, 9760 Baldwin St N.\, Whitby\, Ontario\, L0B 1A0\, Canada
ATTACH;FMTTYPE=image/jpeg:https://explorerrvclub.com/wp-content/uploads/2022/03/ERVC-open-house-1080x1080-1.jpg
ORGANIZER;CN="Campkin%27s%20RV%20Centre":MAILTO:sales@campkins.com
GEO:44.0226337;-78.9693233
X-APPLE-STRUCTURED-LOCATION;VALUE=URI;X-ADDRESS=Campkin’s RV Centre 9760 Baldwin St N. Whitby Ontario L0B 1A0 Canada;X-APPLE-RADIUS=500;X-TITLE=9760 Baldwin St N.:geo:-78.9693233,44.0226337
END:VEVENT
BEGIN:VEVENT
DTSTART;TZID=America/Toronto:20220430T090000
DTEND;TZID=America/Toronto:20220501T160000
DTSTAMP:20260424T040712
CREATED:20220310T152623Z
LAST-MODIFIED:20220311T171923Z
UID:94382-1651309200-1651420800@explorerrvclub.com
SUMMARY:McPhails of Harriston Spring Open House
DESCRIPTION:McPhail’s of Harriston is an RV dealership serving the greater portion of Southern Ontario\, located just outside of Harriston\, ON. Please join us at our Spring Open House where you will find new and used RVs for sale.
URL:https://explorerrvclub.com/event/mcphails-of-harriston/
LOCATION:McPhails of Harriston\, 6332 Wellington Rd 109\, Harriston\, Ontario\, N0G 1Z0\, Canada
GEO:43.8886231;-80.8228566
X-APPLE-STRUCTURED-LOCATION;VALUE=URI;X-ADDRESS=McPhails of Harriston 6332 Wellington Rd 109 Harriston Ontario N0G 1Z0 Canada;X-APPLE-RADIUS=500;X-TITLE=6332 Wellington Rd 109:geo:-80.8228566,43.8886231
END:VEVENT
END:VCALENDAR