BEGIN:VCALENDAR
VERSION:2.0
PRODID:-//Explorer RV Club - ECPv5.14.2.1//NONSGML v1.0//EN
CALSCALE:GREGORIAN
METHOD:PUBLISH
X-WR-CALNAME:Explorer RV Club
X-ORIGINAL-URL:https://explorerrvclub.com
X-WR-CALDESC:Events for Explorer RV Club
REFRESH-INTERVAL;VALUE=DURATION:PT1H
X-Robots-Tag:noindex
X-PUBLISHED-TTL:PT1H
BEGIN:VTIMEZONE
TZID:America/Toronto
BEGIN:DAYLIGHT
TZOFFSETFROM:-0500
TZOFFSETTO:-0400
TZNAME:EDT
DTSTART:20230312T070000
END:DAYLIGHT
BEGIN:STANDARD
TZOFFSETFROM:-0400
TZOFFSETTO:-0500
TZNAME:EST
DTSTART:20231105T060000
END:STANDARD
BEGIN:DAYLIGHT
TZOFFSETFROM:-0500
TZOFFSETTO:-0400
TZNAME:EDT
DTSTART:20240310T070000
END:DAYLIGHT
BEGIN:STANDARD
TZOFFSETFROM:-0400
TZOFFSETTO:-0500
TZNAME:EST
DTSTART:20241103T060000
END:STANDARD
BEGIN:DAYLIGHT
TZOFFSETFROM:-0500
TZOFFSETTO:-0400
TZNAME:EDT
DTSTART:20250309T070000
END:DAYLIGHT
BEGIN:STANDARD
TZOFFSETFROM:-0400
TZOFFSETTO:-0500
TZNAME:EST
DTSTART:20251102T060000
END:STANDARD
BEGIN:DAYLIGHT
TZOFFSETFROM:-0500
TZOFFSETTO:-0400
TZNAME:EDT
DTSTART:20260308T070000
END:DAYLIGHT
BEGIN:STANDARD
TZOFFSETFROM:-0400
TZOFFSETTO:-0500
TZNAME:EST
DTSTART:20261101T060000
END:STANDARD
TZID:America/Edmonton
BEGIN:DAYLIGHT
TZOFFSETFROM:-0700
TZOFFSETTO:-0600
TZNAME:MDT
DTSTART:20240310T090000
END:DAYLIGHT
BEGIN:STANDARD
TZOFFSETFROM:-0600
TZOFFSETTO:-0700
TZNAME:MST
DTSTART:20241103T080000
END:STANDARD
END:VTIMEZONE
BEGIN:VEVENT
DTSTART;TZID=America/Toronto:20230209T120000
DTEND;TZID=America/Toronto:20230212T170000
DTSTAMP:20260424T220124
CREATED:20230120T192204Z
LAST-MODIFIED:20230120T195831Z
UID:103446-1675944000-1676221200@explorerrvclub.com
SUMMARY:Edmonton RV Expo & Sale
DESCRIPTION:Come to the 41st Edmonton RV EXPO & Sale taking place at the Edmonton EXPO Centre on February 9-12\, 2023. \nShow Hours:\nThursday\, February 9     12:00 pm – 9:00 pm\nFriday\, February 10      10:00 am – 9:00 pm\nSaturday\, February 11    10:00 am – 9:00 pm\nSunday\, February 12      10:00 am – 5:00 pm
URL:https://explorerrvclub.com/event/edmonton-rv-expo-sale/
LOCATION:Edmonton EXPO Centre\, 7515 - 118 Ave NW\, Edmonton\, AB\, T5B 0J2\, Canada
ORGANIZER;CN="Recreation%20Vehicle%20Dealers%20Association%20%28RVDA%29%20Alberta":MAILTO:rvdaofab@gmail.com
GEO:53.5683348;-113.4564218
X-APPLE-STRUCTURED-LOCATION;VALUE=URI;X-ADDRESS=Edmonton EXPO Centre 7515 - 118 Ave NW Edmonton AB T5B 0J2 Canada;X-APPLE-RADIUS=500;X-TITLE=7515 - 118 Ave NW:geo:-113.4564218,53.5683348
END:VEVENT
BEGIN:VEVENT
DTSTART;TZID=America/Edmonton:20240208T120000
DTEND;TZID=America/Edmonton:20240211T170000
DTSTAMP:20260424T220124
CREATED:20240201T161510Z
LAST-MODIFIED:20240202T201949Z
UID:138653-1707393600-1707670800@explorerrvclub.com
SUMMARY:Edmonton RV Adventure Sale & Show
DESCRIPTION:This year\, the RV Adventure Sale & Show will feature even more of what you love: sales and discounts\, brand new RVs and even more outdoor lifestyle gear! Bring your family to enjoy entertainment and fun activities for the whole family while finding exclusive discounts on the largest selection of RVs.
URL:https://explorerrvclub.com/event/edmonton-rv-adventure-sale-show/
LOCATION:Edmonton EXPO Centre\, 7515 - 118 Ave NW\, Edmonton\, AB\, T5B 0J2\, Canada
ORGANIZER;CN="Recreation%20Vehicle%20Dealers%20Association%20%28RVDA%29%20Alberta":MAILTO:rvdaofab@gmail.com
GEO:53.5683348;-113.4564218
X-APPLE-STRUCTURED-LOCATION;VALUE=URI;X-ADDRESS=Edmonton EXPO Centre 7515 - 118 Ave NW Edmonton AB T5B 0J2 Canada;X-APPLE-RADIUS=500;X-TITLE=7515 - 118 Ave NW:geo:-113.4564218,53.5683348
END:VEVENT
BEGIN:VEVENT
DTSTART;TZID=America/Edmonton:20240314T120000
DTEND;TZID=America/Edmonton:20240317T170000
DTSTAMP:20260424T220124
CREATED:20240201T191245Z
LAST-MODIFIED:20240201T191245Z
UID:138690-1710417600-1710694800@explorerrvclub.com
SUMMARY:Edmonton Boat & Sportsmen's Show
DESCRIPTION:Prepare for the most exhilarating four days of the year for outdoor enthusiasts in Alberta! The Edmonton Boat and Sportsmen’s Show is set to take over the Edmonton Expo Center\, transforming it into a unique marketplace catering to all things boating\, hunting\, fishing\, and unforgettable adventures in the great outdoors.
URL:https://explorerrvclub.com/event/edmonton-boat-sportsmens-show/
LOCATION:Edmonton EXPO Centre\, 7515 - 118 Ave NW\, Edmonton\, AB\, T5B 0J2\, Canada
ORGANIZER;CN="Master%20Promotions%20Ltd.":MAILTO:ssprague@mpltd.ca
GEO:53.5683348;-113.4564218
X-APPLE-STRUCTURED-LOCATION;VALUE=URI;X-ADDRESS=Edmonton EXPO Centre 7515 - 118 Ave NW Edmonton AB T5B 0J2 Canada;X-APPLE-RADIUS=500;X-TITLE=7515 - 118 Ave NW:geo:-113.4564218,53.5683348
END:VEVENT
BEGIN:VEVENT
DTSTART;TZID=America/Toronto:20250206T120000
DTEND;TZID=America/Toronto:20250209T170000
DTSTAMP:20260424T220124
CREATED:20241203T203905Z
LAST-MODIFIED:20241203T203905Z
UID:147024-1738843200-1739120400@explorerrvclub.com
SUMMARY:Edmonton RV Adventure Sale & Show
DESCRIPTION:The Edmonton RV Adventure Sale & Show is a gateway to a world of excitement on the open road. This exclusive 4-day event offers an extensive display of new RVs\, top-tier equipment\, and premier outdoor lifestyle brands.
URL:https://explorerrvclub.com/event/edmonton-rv-adventure-sale-show-2/
LOCATION:Edmonton EXPO Centre\, 7515 - 118 Ave NW\, Edmonton\, AB\, T5B 0J2\, Canada
ORGANIZER;CN="Recreation%20Vehicle%20Dealers%20Association%20%28RVDA%29%20Alberta":MAILTO:rvdaofab@gmail.com
GEO:53.5683348;-113.4564218
X-APPLE-STRUCTURED-LOCATION;VALUE=URI;X-ADDRESS=Edmonton EXPO Centre 7515 - 118 Ave NW Edmonton AB T5B 0J2 Canada;X-APPLE-RADIUS=500;X-TITLE=7515 - 118 Ave NW:geo:-113.4564218,53.5683348
END:VEVENT
BEGIN:VEVENT
DTSTART;TZID=America/Toronto:20260205T120000
DTEND;TZID=America/Toronto:20260208T170000
DTSTAMP:20260424T220124
CREATED:20260113T162211Z
LAST-MODIFIED:20260113T211316Z
UID:159897-1770292800-1770570000@explorerrvclub.com
SUMMARY:Edmonton RV Adventure Sale & Show
DESCRIPTION:The Edmonton RV Adventure Sale & Show is a gateway to a world of excitement on the open road. This exclusive 4-day event offers an extensive display of new RVs\, top-tier equipment\, and premier outdoor lifestyle brands. Come grab exclusive discounts on brand-new units and reduced financing options from RV dealers. Purchasing your dream RV has never been easier. \nWebsite: rvda-alberta.org/shows\nContact: rvdaofab@gmail.com
URL:https://explorerrvclub.com/event/edmonton-rv-adventure-sale-show-3/
LOCATION:Edmonton EXPO Centre\, 7515 - 118 Ave NW\, Edmonton\, AB\, T5B 0J2\, Canada
ORGANIZER;CN="Recreation%20Vehicle%20Dealers%20Association%20%28RVDA%29%20Alberta":MAILTO:rvdaofab@gmail.com
GEO:53.5683348;-113.4564218
X-APPLE-STRUCTURED-LOCATION;VALUE=URI;X-ADDRESS=Edmonton EXPO Centre 7515 - 118 Ave NW Edmonton AB T5B 0J2 Canada;X-APPLE-RADIUS=500;X-TITLE=7515 - 118 Ave NW:geo:-113.4564218,53.5683348
END:VEVENT
END:VCALENDAR